BEGIN:VCALENDAR
VERSION:2.0
PRODID:Virginia Department of Education Calendar Creator
METHOD:PUBLISH
BEGIN:VEVENT
DTSTAMP:20260106T102752
DTSTART:20260826T000000
DTEND:20260827T235900
SUMMARY:Board of Education Meetings
DESCRIPTION:<p>Go to&nbsp;<a href="https://www.doe.virginia.gov/?navid=1542">Board Meetings, Agendas and Minutes</a>&nbsp;for more information.</p>
X-ALT-DESC;FMTTYPE=text/html:<p>Go to&nbsp;<a href="https://www.doe.virginia.gov/?navid=1542">Board Meetings, Agendas and Minutes</a>&nbsp;for more information.</p>
LOCATION:
CLASS:PUBLIC
END:VEVENT
END:VCALENDAR
